BEGIN:VCALENDAR
VERSION:2.0
PRODID:-//Fanfare l&#039; Echo du Gibloux Avry-dt-pont - ECPv6.15.11//NONSGML v1.0//EN
CALSCALE:GREGORIAN
METHOD:PUBLISH
X-WR-CALNAME:Fanfare l&#039; Echo du Gibloux Avry-dt-pont
X-ORIGINAL-URL:https://fanfareavry.ch
X-WR-CALDESC:Évènements pour Fanfare l&#039; Echo du Gibloux Avry-dt-pont
REFRESH-INTERVAL;VALUE=DURATION:PT1H
X-Robots-Tag:noindex
X-PUBLISHED-TTL:PT1H
BEGIN:VTIMEZONE
TZID:Europe/Zurich
BEGIN:DAYLIGHT
TZOFFSETFROM:+0100
TZOFFSETTO:+0200
TZNAME:CEST
DTSTART:20250330T010000
END:DAYLIGHT
BEGIN:STANDARD
TZOFFSETFROM:+0200
TZOFFSETTO:+0100
TZNAME:CET
DTSTART:20251026T010000
END:STANDARD
BEGIN:DAYLIGHT
TZOFFSETFROM:+0100
TZOFFSETTO:+0200
TZNAME:CEST
DTSTART:20260329T010000
END:DAYLIGHT
BEGIN:STANDARD
TZOFFSETFROM:+0200
TZOFFSETTO:+0100
TZNAME:CET
DTSTART:20261025T010000
END:STANDARD
BEGIN:DAYLIGHT
TZOFFSETFROM:+0100
TZOFFSETTO:+0200
TZNAME:CEST
DTSTART:20270328T010000
END:DAYLIGHT
BEGIN:STANDARD
TZOFFSETFROM:+0200
TZOFFSETTO:+0100
TZNAME:CET
DTSTART:20271031T010000
END:STANDARD
END:VTIMEZONE
BEGIN:VEVENT
DTSTART;VALUE=DATE:20260418
DTEND;VALUE=DATE:20260421
DTSTAMP:20260420T032403
CREATED:20251003T042652Z
LAST-MODIFIED:20251003T042652Z
UID:1123-1776492000-1776664799@fanfareavry.ch
SUMMARY:Sortie de la société avec instruments
DESCRIPTION:
URL:https://fanfareavry.ch/event/sortie-de-la-societe-avec-instruments/
END:VEVENT
BEGIN:VEVENT
DTSTART;TZID=Europe/Zurich:20260521T180000
DTEND;TZID=Europe/Zurich:20260521T200000
DTSTAMP:20260420T032403
CREATED:20251003T042735Z
LAST-MODIFIED:20251003T042735Z
UID:1125-1779386400-1779393600@fanfareavry.ch
SUMMARY:Audition des cadets
DESCRIPTION:
URL:https://fanfareavry.ch/event/audition-des-cadets/
END:VEVENT
END:VCALENDAR